BEGIN:VCALENDAR
VERSION:2.0
PRODID:-//Hinton Waldrist Parish Council//Meeting Calendar//EN
CALSCALE:GREGORIAN
METHOD:PUBLISH
BEGIN:VEVENT
UID:70431-20220726@hintonwaldrist-pc.gov.uk
DTSTAMP:20260420T083242Z
DTSTART;VALUE=DATE:20220726
DTEND;VALUE=DATE:20220727
SUMMARY:Parish Council Meeting &#8211\\; 26th July 2022
DESCRIPTION:Full Council Meeting\nView details: https://hintonwaldrist-pc.gov.uk/meetings/parish-council-meeting-26th-july-2022/
URL:https://hintonwaldrist-pc.gov.uk/meetings/parish-council-meeting-26th-july-2022/
END:VEVENT
END:VCALENDAR
