BEGIN:VCALENDAR
VERSION:2.0
PRODID:-//Hinton Waldrist Parish Council//Meeting Calendar//EN
CALSCALE:GREGORIAN
METHOD:PUBLISH
BEGIN:VEVENT
UID:70439-20200526@hintonwaldrist-pc.gov.uk
DTSTAMP:20260421T082136Z
DTSTART;VALUE=DATE:20200526
DTEND;VALUE=DATE:20200527
SUMMARY:Annual Parish Council Meeting &#8211\\; 26th May 2020
DESCRIPTION:Full Council Meeting\nView details: https://hintonwaldrist-pc.gov.uk/meetings/parish-council-meeting-26th-may-2020/
URL:https://hintonwaldrist-pc.gov.uk/meetings/parish-council-meeting-26th-may-2020/
END:VEVENT
END:VCALENDAR
