BEGIN:VCALENDAR
VERSION:2.0
PRODID:-//Hinton Waldrist Parish Council//Meeting Calendar//EN
CALSCALE:GREGORIAN
METHOD:PUBLISH
BEGIN:VEVENT
UID:70440-20200714@hintonwaldrist-pc.gov.uk
DTSTAMP:20260421T123159Z
DTSTART;VALUE=DATE:20200714
DTEND;VALUE=DATE:20200715
SUMMARY:Parish Council Meeting &#8211\\; 14th July 2020
DESCRIPTION:Full Council Meeting\nView details: https://hintonwaldrist-pc.gov.uk/meetings/parish-council-meeting-14th-july-2020/
URL:https://hintonwaldrist-pc.gov.uk/meetings/parish-council-meeting-14th-july-2020/
END:VEVENT
END:VCALENDAR
