BEGIN:VCALENDAR
VERSION:2.0
PRODID:-//Hinton Waldrist Parish Council//Meeting Calendar//EN
CALSCALE:GREGORIAN
METHOD:PUBLISH
BEGIN:VEVENT
UID:70451-20200317@hintonwaldrist-pc.gov.uk
DTSTAMP:20260419T121957Z
DTSTART;VALUE=DATE:20200317
DTEND;VALUE=DATE:20200318
SUMMARY:Parish Council Meeting &#8211\\; 17th March 2020
DESCRIPTION:Full Council Meeting\nView details: https://hintonwaldrist-pc.gov.uk/meetings/parish-council-meeting-17th-march-2020/
URL:https://hintonwaldrist-pc.gov.uk/meetings/parish-council-meeting-17th-march-2020/
END:VEVENT
END:VCALENDAR
